BEGIN:VCALENDAR
VERSION:2.0
PRODID:-//Canberra City Farm - ECPv6.15.20//NONSGML v1.0//EN
CALSCALE:GREGORIAN
METHOD:PUBLISH
X-WR-CALNAME:Canberra City Farm
X-ORIGINAL-URL:https://ccfarm.org.au/pages
X-WR-CALDESC:Events for Canberra City Farm
REFRESH-INTERVAL;VALUE=DURATION:PT1H
X-Robots-Tag:noindex
X-PUBLISHED-TTL:PT1H
BEGIN:VTIMEZONE
TZID:Australia/Sydney
BEGIN:STANDARD
TZOFFSETFROM:+1100
TZOFFSETTO:+1000
TZNAME:AEST
DTSTART:20240406T160000
END:STANDARD
BEGIN:DAYLIGHT
TZOFFSETFROM:+1000
TZOFFSETTO:+1100
TZNAME:AEDT
DTSTART:20241005T160000
END:DAYLIGHT
BEGIN:STANDARD
TZOFFSETFROM:+1100
TZOFFSETTO:+1000
TZNAME:AEST
DTSTART:20250405T160000
END:STANDARD
BEGIN:DAYLIGHT
TZOFFSETFROM:+1000
TZOFFSETTO:+1100
TZNAME:AEDT
DTSTART:20251004T160000
END:DAYLIGHT
BEGIN:STANDARD
TZOFFSETFROM:+1100
TZOFFSETTO:+1000
TZNAME:AEST
DTSTART:20260404T160000
END:STANDARD
BEGIN:DAYLIGHT
TZOFFSETFROM:+1000
TZOFFSETTO:+1100
TZNAME:AEDT
DTSTART:20261003T160000
END:DAYLIGHT
END:VTIMEZONE
BEGIN:VEVENT
DTSTART;TZID=Australia/Sydney:20250921T120000
DTEND;TZID=Australia/Sydney:20250921T150000
DTSTAMP:20260417T233508
CREATED:20250818T232921Z
LAST-MODIFIED:20250924T115004Z
UID:7324-1758456000-1758466800@ccfarm.org.au
SUMMARY:MONTHLY MINGLE - September
DESCRIPTION:MONTHLY MINGLE\nOnce a month we fire up the pizza oven for lunch and party in our outdoor kitchen. We like to catch up\, relax in the shade of the mulberry tree\, and the conversation grows organically! At most mingles there is an inspirational guest speaker. Mingles are a great way to visit the Farm\, taste whatever’s growing and meet the community. All welcome. \nMonthly Mingle Times \n\nThird Sunday of every month\, between 12 noon and 3 pm\nIf we’re firing the pizza oven\, BYO toppings. We provide bases\, cheese and passata (NB the pizza oven fire is weather dependent)\nSee EVENTS page for details of next mingle and RSVP
URL:https://ccfarm.org.au/pages/event/monthly-mingle-september/
LOCATION:Canberra City Farm\, 2 Dairy Road\, Fyshwick\, ACT\, 2609\, Australia
CATEGORIES:Monthly Mingles
ATTACH;FMTTYPE=image/jpeg:https://ccfarm.org.au/pages/wp-content/uploads/2025/05/P1013643-scaled.jpg
END:VEVENT
END:VCALENDAR