BEGIN:VCALENDAR
VERSION:2.0
PRODID:-//Canberra City Farm - ECPv6.15.20//NONSGML v1.0//EN
CALSCALE:GREGORIAN
METHOD:PUBLISH
X-WR-CALNAME:Canberra City Farm
X-ORIGINAL-URL:https://ccfarm.org.au/pages
X-WR-CALDESC:Events for Canberra City Farm
REFRESH-INTERVAL;VALUE=DURATION:PT1H
X-Robots-Tag:noindex
X-PUBLISHED-TTL:PT1H
BEGIN:VTIMEZONE
TZID:Australia/Sydney
BEGIN:STANDARD
TZOFFSETFROM:+1100
TZOFFSETTO:+1000
TZNAME:AEST
DTSTART:20250405T160000
END:STANDARD
BEGIN:DAYLIGHT
TZOFFSETFROM:+1000
TZOFFSETTO:+1100
TZNAME:AEDT
DTSTART:20251004T160000
END:DAYLIGHT
BEGIN:STANDARD
TZOFFSETFROM:+1100
TZOFFSETTO:+1000
TZNAME:AEST
DTSTART:20260404T160000
END:STANDARD
BEGIN:DAYLIGHT
TZOFFSETFROM:+1000
TZOFFSETTO:+1100
TZNAME:AEDT
DTSTART:20261003T160000
END:DAYLIGHT
BEGIN:STANDARD
TZOFFSETFROM:+1100
TZOFFSETTO:+1000
TZNAME:AEST
DTSTART:20270403T160000
END:STANDARD
BEGIN:DAYLIGHT
TZOFFSETFROM:+1000
TZOFFSETTO:+1100
TZNAME:AEDT
DTSTART:20271002T160000
END:DAYLIGHT
END:VTIMEZONE
BEGIN:VEVENT
DTSTART;TZID=Australia/Sydney:20260418T143000
DTEND;TZID=Australia/Sydney:20260502T163000
DTSTAMP:20260413T073326
CREATED:20251025T002124Z
LAST-MODIFIED:20260129T092247Z
UID:7702-1776522600-1777739400@ccfarm.org.au
SUMMARY:Understanding your Garden Soil
DESCRIPTION:Understanding Your Garden Soil\nIn this workshop we will consider the characteristics of a fertile garden soil and how you can transform your soil to produce nutritious fruit and vegetables.  You will be introduced to methods to assess: \n• the soil texture and structure of your soil and how it affects plant growth\,\n• the chemical properties of your soil and how that affects the availability of plant nutrients\,\n• the microbiological properties of your soil which enhance the ability of plants to extract nutrients from the soil. \nMethods to modify these soil characteristics will be discussed. \nTarget audience\nThis is part of The City Farm’s Allotment Education Program but anyone interested in gardening is most welcome to attend.  This workshop is suitable for beginner gardeners. \nWorkshop length\nThis workshop consists of two sessions of 2 hours each. The workshop fee covers both sessions. \nDate\nSaturday 18 April and Saturday 2 May from 2:30 pm to 4:30 pm \nTickets\nTickets can be purchased at the Humanitix website here.  Canberra City Farm financial members receive a discount when the discount code is entered during the purchase process. \nWorkshop requirements\nThis workshop is suitable for beginner gardeners as well as those with some gardening experience.  All participants are asked to bring a sample of soil from their own garden for assessment.  A sample volume of the size of a large coffee mug should be sufficient. \nAs this is an outdoor practical workshop\, participants should bring gardening gloves and wear sturdy\, closed shoes and appropriate gardening clothes for the weather conditions.
URL:https://ccfarm.org.au/pages/event/understanding-your-garden-soil/
LOCATION:Canberra City Farm\, 2 Dairy Road\, Fyshwick\, ACT\, 2609\, Australia
CATEGORIES:Workshop
ATTACH;FMTTYPE=image/jpeg:https://ccfarm.org.au/pages/wp-content/uploads/2025/10/Scaled-Soil-Image.jpg
END:VEVENT
END:VCALENDAR